BEGIN:VCALENDAR
VERSION:2.0
CALSCALE:GREGORIAN
PRODID:-//MyApp//Calendar 1.0//EN
BEGIN:VEVENT
METHOD:PUBLISH
UID:60399@regionalniportaly.cz
DTSTAMP:20260422T101456Z
DTSTART;VALUE=DATE:20251226
DTEND;VALUE=DATE:20251227
SUMMARY:VIP BOX EXTRA
DESCRIPTION:Možnost rezervace&nbsp\;VIP boxu&nbsp\;je tady!Box přímo u DJe\, obsluha do boxu a mnoho dalšího!V ceně&nbsp\;VIP boxu:- VIP bottle service (0\,7L Grey Goose + 6x RedBull)- 5x vstup&nbsp\;- rezervovaný box vedle DJe- obsluha do boxu
LOCATION:Uherské Hradiště
END:VEVENT
END:VCALENDAR