BEGIN:VCALENDAR
VERSION:2.0
CALSCALE:GREGORIAN
PRODID:-//MyApp//Calendar 1.0//EN
BEGIN:VEVENT
METHOD:PUBLISH
UID:60432@regionalniportaly.cz
DTSTAMP:20260422T083058Z
DTSTART;VALUE=DATE:20260310
DTEND;VALUE=DATE:20260311
SUMMARY:Zdeněk Izer - Vyndavací  zas tam dací
DESCRIPTION:Známý bavič\, komik a imitátor&nbsp\;ZDENĚK IZER&nbsp\;přijede za Vámi do Strání – Květná&nbsp\;10. března 2025&nbsp\;od 19 h se svou zábavnou talk show. Tak si ji nenechte&nbsp\;ujít!&nbsp\;&nbsp\;&nbsp\;&nbsp\;&nbsp\;&nbsp\;&nbsp\;&nbsp\;&nbsp\;&nbsp\;&nbsp\;&nbsp\;&nbsp\;&nbsp\;&nbsp\;&nbsp\;&nbsp\;&nbsp\;&nbsp\;&nbsp\;&nbsp\;&nbsp\;&nbsp\;&nbsp\;&nbsp\;&nbsp\;&nbsp\;&nbsp\;&nbsp\;&nbsp\;&nbsp\;&nbsp\;&nbsp\;&nbsp\;&nbsp\;&nbsp\; „VYNDAVACÍ A&nbsp\;ZAS TAM DACÍ“!Pořad\, ve kterém se diváci budou moci setkat s&nbsp\;jedinečným a nezaměnitelným humorem. Jako vždy přijdou na řadu oblíbené zábavné scénky\, parodie a mnoho skvělých vtipů. Vystoupení je opět obohacené videoprojekcemi\, nejrůznějšími zábavnými kostýmy\, převleky a světelnými efekty.Jeho vystoupení bývají beznadějně předem vyprodaná\, tak doporučujeme zajistit si vstupenky včas!
LOCATION:Strání
END:VEVENT
END:VCALENDAR