BEGIN:VCALENDAR
VERSION:2.0
CALSCALE:GREGORIAN
PRODID:-//MyApp//Calendar 1.0//EN
BEGIN:VEVENT
METHOD:PUBLISH
UID:60644@regionalniportaly.cz
DTSTAMP:20260424T112631Z
DTSTART;VALUE=DATE:20251208
DTEND;VALUE=DATE:20251209
SUMMARY:V rytmu tance
DESCRIPTION:
LOCATION:Veselí nad Moravou
END:VEVENT
END:VCALENDAR