BEGIN:VCALENDAR
VERSION:2.0
CALSCALE:GREGORIAN
PRODID:-//MyApp//Calendar 1.0//EN
BEGIN:VEVENT
METHOD:PUBLISH
UID:60710@regionalniportaly.cz
DTSTAMP:20260422T072553Z
DTSTART;VALUE=DATE:20260201
DTEND;VALUE=DATE:20260202
SUMMARY:Normální debil 2
DESCRIPTION:Osmdesátky aneb KalendáriumSpolu se známým průšvihářem Norbertem Intribusem se tentokrát přeneseme do socialistických let osmdesátých.Nové příběhy hlavního hrdiny\, odehrávající se na střední škole\, ve vojenském útvaru nebo v oblastním divadle\, se prolínají s historickými událostmi.Kdo zažil skutečný Discopříběh? Jak vlastně začala Sametová revoluce? Koho nejvíc ovlivnil legendární projev Milouše Jakeše? Kde byl poprvé spatřen bod G?Volné pokračování stejnojmenné populární inscenace jako seriózní výlet do historie i parodická komedie. Na své si opět přijdou milovníci vysílání Československé televize a dobové pop music.A možná přijde i kouzelník ... a Saskia Burešová.&nbsp\;
LOCATION:Svatobořice-Mistřín
END:VEVENT
END:VCALENDAR