BEGIN:VCALENDAR
VERSION:2.0
CALSCALE:GREGORIAN
PRODID:-//MyApp//Calendar 1.0//EN
BEGIN:VEVENT
METHOD:PUBLISH
UID:60765@regionalniportaly.cz
DTSTAMP:20260424T112622Z
DTSTART;VALUE=DATE:20260110
DTEND;VALUE=DATE:20260111
SUMMARY:12:PLES vol3
DESCRIPTION:12:PLES již po třetí. Velice pestrý program zaručí 12:PIET\, Muzikaša\, tajní hosté a DJ&nbsp\;Messer. Obžerstvení\, tombola\, otevřená celá Beseda. Dojdi\, mosíš!
LOCATION:Nivnice
END:VEVENT
END:VCALENDAR