BEGIN:VCALENDAR
VERSION:2.0
CALSCALE:GREGORIAN
PRODID:-//MyApp//Calendar 1.0//EN
BEGIN:VEVENT
METHOD:PUBLISH
UID:60803@regionalniportaly.cz
DTSTAMP:20260421T194237Z
DTSTART;VALUE=DATE:20260807
DTEND;VALUE=DATE:20260808
SUMMARY:Slavnosti piva KAMÍNKA KEMP Roštín 2026
DESCRIPTION:Legendární festival Slavnosti piva KAMÍNKA se vrací v plné své síle! Kempový areál na kopci nad Roštínem opět ožije živou hudbou a širokým výběrem piva ze všech koutů České republiky.Postaráme se o to\, aby tento festivalový návrat stál za to! Kapely postupně zveřejníme\, rozhodně se máme na co těšit!
LOCATION:Roštín
END:VEVENT
END:VCALENDAR