BEGIN:VCALENDAR
VERSION:2.0
CALSCALE:GREGORIAN
PRODID:-//MyApp//Calendar 1.0//EN
BEGIN:VEVENT
METHOD:PUBLISH
UID:60826@regionalniportaly.cz
DTSTAMP:20260421T151239Z
DTSTART;VALUE=DATE:20260828
DTEND;VALUE=DATE:20260829
SUMMARY:WIFIč VEN!_na poli
DESCRIPTION:WiFič VEN!_na poli. Jedním slovem zážitek. Areál Pole designu v Bílovicích se už podeváté stane místem\, kde se propojují styly\, žánry i generace.V prostředí\, kde emoce dostávají prostor\, se můžete těšit na---------- koncerty&nbsp\;OHM SQUARE 30\, PRAGO UNION&amp\;live band\, MAT 213\, IVA BITTOVÁ\, MIDI LIDI\,&nbsp\; Rudiš Kružík U-bahn\, Pudink paní Elvisovej\, Wyfe\, SJU\, Terez Frecerová\, MindMine\, Terez Frecerová\, Yasha 96\, Krupicafaja ...&nbsp\;--------- taneční a pohybové performanceCirk la Putyka\, Michal&nbsp\;Heriban\, Jedným dychom\, Spitfire Company\,&nbsp\;--------- rozhovory Lucie Výborné&nbsp\;--------- divadlo---------&nbsp\;program&nbsp\;pro děti&nbsp\;&nbsp\;To vše pak korunuje industriální výstava ŽNĚ DESIGNU. Opět ukážeme to nejlepší\, co se podařilo navrhnout a začít sériově vyrábět. Nejen v České republice\, ale i v dalších evropských zemích.&nbsp\;Takže 28. a 29. srpna je ten pravý čas se na chvíli zastavit. U nás.
LOCATION:Bílovice
END:VEVENT
END:VCALENDAR