BEGIN:VCALENDAR
VERSION:2.0
CALSCALE:GREGORIAN
PRODID:-//MyApp//Calendar 1.0//EN
BEGIN:VEVENT
METHOD:PUBLISH
UID:60852@regionalniportaly.cz
DTSTAMP:20260422T085133Z
DTSTART;VALUE=DATE:20260214
DTEND;VALUE=DATE:20260215
SUMMARY:Myslivecký ples Vlčnov
DESCRIPTION:Chtěli bychom vás pozvat na Myslivecký ples\, kde k tanci a poslechu bude hrát dechová hudba Hradčovjanka a Madison.&nbsp\;Připraveno&nbsp\;bude i něco k zakousnutí a to zvěřinové speciality.Na baru vám přichystáme samozřejmě nějaké to dobré vínečko\, ale i nějaký míchaný nápoj se tam najde.
LOCATION:Vlčnov
END:VEVENT
END:VCALENDAR