BEGIN:VCALENDAR
VERSION:2.0
CALSCALE:GREGORIAN
PRODID:-//MyApp//Calendar 1.0//EN
BEGIN:VEVENT
METHOD:PUBLISH
UID:60904@regionalniportaly.cz
DTSTAMP:20260422T023540Z
DTSTART;VALUE=DATE:20260327
DTEND;VALUE=DATE:20260328
SUMMARY:Nezmaři
DESCRIPTION:Folková skupina Nezmaři&nbsp\;byla založena počátkem roku 1978 čtyřmi “otci zakladateli” Pavlem Zajícem\, Zdeňkem Hejkrlíkem\, Zdeňkem Svobodou a&nbsp\;Lubošem Hrdličkou\, původně jako scénická kapela Divadla dramatických textů s&nbsp\;půvabnou zkratkou DDT\, působícím pod ochrannými křídly Jihočeského divadla.V současné sestavě jezdí s&nbsp\;koncertním programem\, ve kterém zazní i&nbsp\;písničky z&nbsp\;jejich posledního CD. Posluchači si tak s&nbsp\;nimi mohou během jednoho koncertu zazpívat písničky ze všech období kapely od historie až po současnost.
LOCATION:Ostrožská Nová Ves
END:VEVENT
END:VCALENDAR