BEGIN:VCALENDAR
VERSION:2.0
CALSCALE:GREGORIAN
PRODID:-//MyApp//Calendar 1.0//EN
BEGIN:VEVENT
METHOD:PUBLISH
UID:60908@regionalniportaly.cz
DTSTAMP:20260421T181653Z
DTSTART;VALUE=DATE:20260426
DTEND;VALUE=DATE:20260427
SUMMARY:Cigánski Diabli a Vanessa Šarközi
DESCRIPTION:Každý koncert je exkluzivním výběrem z rozsáhlé hudební produkce orchestru. V zahraničí je tento koncept znám pod názvem Gypsy Devils 4 YOU.Skládá se z autorských aranžmá typických jejich neskutečnou virtuozitou\, energickým nábojem a svérázným stylem.Prolínají se v něm fúze mnoha hudebních stylů\, mezi něž patří klasika\, etno\, World Music\, jazz\, cikánské melodie\, slovenský a mezinárodní folk.
LOCATION:Mikulčice
END:VEVENT
END:VCALENDAR