BEGIN:VCALENDAR
VERSION:2.0
CALSCALE:GREGORIAN
PRODID:-//MyApp//Calendar 1.0//EN
BEGIN:VEVENT
METHOD:PUBLISH
UID:61043@regionalniportaly.cz
DTSTAMP:20260422T090012Z
DTSTART;VALUE=DATE:20260207
DTEND;VALUE=DATE:20260208
SUMMARY:Reprezentační ples Města Strážnice
DESCRIPTION:Město Strážnice a Kulturní dům Strážničan Vás srdečně zvou na Reprezentační ples Města Strážnice\, který se uskuteční v sobotu 7. února 2026 v Kulturním domě Strážničan. Program: Sajmon &amp\; Garfunkers / Coppelia / Midnight Coffee Session / Bert &amp\; FriendsModeruje: Veronika Petruchová\n \nVstupenky v prodeji také v KD Strážničan.V ceně vstupenky je 2x VIP drink a večeře.(u slevy pro studenty je nutno prokázat se u vstupu platným dokladem o prokázání nároku\, v opačném případě bude vstupenka neplatná)
LOCATION:Strážnice
END:VEVENT
END:VCALENDAR