BEGIN:VCALENDAR
VERSION:2.0
CALSCALE:GREGORIAN
PRODID:-//MyApp//Calendar 1.0//EN
BEGIN:VEVENT
METHOD:PUBLISH
UID:61044@regionalniportaly.cz
DTSTAMP:20260422T072621Z
DTSTART;VALUE=DATE:20260228
DTEND;VALUE=DATE:20260301
SUMMARY:Roman Horký a Kamelot
DESCRIPTION:Roman Horký a Kamelot míří do Strážnice s koncertem "To nejlepší" a křtem nového alba! \nKulturní dům Strážničan se stane hostitelem jedné z velkých hudebních událostí příštího roku. Legendární Roman Horký a jeho skupina Kamelot vystoupí 28. února 2026 v rámci speciálního koncertu s podtitulem "To nejlepší od Kamelot". Fanoušci se mohou těšit nejen na největší hity kapely\, ale i na slavnostní křest zbrusu nového alba.\nRoman Horký\, ikonická postava české folk a country scény\, přiveze do Strážnice průřez svou bohatou tvorbou\, která zahrnuje desítky nezapomenutelných písní. Koncert nabídne jedinečnou atmosféru\, kde zazní hity jako „Zachraňte koně“\, „Honolulu“ nebo „Levitace“.Vrcholem večera bude křest dlouho očekávané novinky ...v čekárně. \n \nVstupné: 450\,- / 550\,-
LOCATION:Strážnice
END:VEVENT
END:VCALENDAR