BEGIN:VCALENDAR
VERSION:2.0
CALSCALE:GREGORIAN
PRODID:-//MyApp//Calendar 1.0//EN
BEGIN:VEVENT
METHOD:PUBLISH
UID:61097@regionalniportaly.cz
DTSTAMP:20260421T234519Z
DTSTART;VALUE=DATE:20260417
DTEND;VALUE=DATE:20260418
SUMMARY:Insania
DESCRIPTION:Insania&nbsp\;(psáno též jako 1N54N14) (neboli Aristokracie nových vyděděnců) je česká crossoverová/post-hardcoreová hudební skupina z Brna\, která si klubových koncertů náležitě užívá a vytvořila kolem sebe kult tajemnosti.Jako host vystoupí Landscape of Shadows.
LOCATION:Uherské Hradiště
END:VEVENT
END:VCALENDAR