BEGIN:VCALENDAR
VERSION:2.0
CALSCALE:GREGORIAN
PRODID:-//MyApp//Calendar 1.0//EN
BEGIN:VEVENT
METHOD:PUBLISH
UID:61098@regionalniportaly.cz
DTSTAMP:20260421T234509Z
DTSTART;VALUE=DATE:20260411
DTEND;VALUE=DATE:20260412
SUMMARY:Vltava
DESCRIPTION:„Přeji si\, aby naše písničková zpráva vždy obsahovala radost\, aby byla pozitivní a pro zájemce také hluboká. Všechny naše písně mají svůj odraz v životě\, v zážitcích a pocitech\, které jsou mnoha lidem společné. Na koncertech to zjišťujeme stále znovu.“(Robert Nebřenský)
LOCATION:Uherské Hradiště
END:VEVENT
END:VCALENDAR