BEGIN:VCALENDAR
VERSION:2.0
CALSCALE:GREGORIAN
PRODID:-//MyApp//Calendar 1.0//EN
BEGIN:VEVENT
METHOD:PUBLISH
UID:61134@regionalniportaly.cz
DTSTAMP:20260422T044635Z
DTSTART;VALUE=DATE:20260221
DTEND;VALUE=DATE:20260222
SUMMARY:Slavnostní česká premiéra filmu Bohyně - Cesty osudu s besedou u cimbálu
DESCRIPTION:Bohyně – Příběh lásky\, přírody a tajemství ✨🌿Bohyně\, co byla vlastně zač? Léčitelka\, vědma nebo čarodějnice?\nPříběh vypráví o lásce dvou mladých lidí\, prastarých přírodních silách\, závisti a zradě. Jejich milostné pouto je protkáno živelností bujarých oslav Svatojánské noci\, které se stávají kulisou pro drama\, v němž se zračí síla Bohyně\, ochránkyně osudu i tajemství.Připojte se k nám na cestě do světa\, kde se láska a osud střetávají s mocí přírody. \nNa co se můžete těšit?🌿 Projekce filmu Bohyně - cesty osudu🌿 Moderovaná debata s režisérkou a tvůrci filmu🌿 Beseda u cimbálu s vínem\, občerstveníma neformálním setkáním s filmovými tvůrci🌿 výstava fotografií \nPřijďte podpořit projekt\, který vznikl spoluprací studentů a absolventů JAMU\, profesionálů z Městského divadla Brno či VUS Ondráš a všech\, které spojuje láska k folkloru.\nscénář: Marcel Peterka\, Dominika Práškovárežie: Dominika Práškovákamera: Jaromír Kalina\, Michal Michálekhudba: Pavel Koplík\, Anna Urbaničová zvuk: Petr Khollchoreografie: Jan Kysučanprodukce: Anna Varausová\nHrajíEvelína Studénková\, Jan Ludva\, Alžběta Janíčková\, Monika Tomková\, Jan Valeš\, Drahomíra Hofmanová\, Marta Matějová\, Václav Trusinataneční skupina: ​Viktória Hudáková\, Kateřina Janečková​\, Gabriela Janíčková\, Tereza Jindráková​\, Alena Kozlová​\, Michal Krůl​\, Lukáš Paseka​\, Victor Peeters​\, Denis Šimonič​\n Vstupné: 200 Kč 
LOCATION:Strážnice
END:VEVENT
END:VCALENDAR