BEGIN:VCALENDAR
VERSION:2.0
CALSCALE:GREGORIAN
PRODID:-//MyApp//Calendar 1.0//EN
BEGIN:VEVENT
METHOD:PUBLISH
UID:61144@regionalniportaly.cz
DTSTAMP:20260421T191620Z
DTSTART;VALUE=DATE:20260821
DTEND;VALUE=DATE:20260822
SUMMARY:Velká letní show Ratíškovice
DESCRIPTION:Velká letní show v Ratíškovicích\, plná humoru\, písniček a dobré nálady.21.8.2026 v 19:00 hodin\, letní scéna Spolkového domu Ratíškovice.&nbsp\;
LOCATION:Ratíškovice
END:VEVENT
END:VCALENDAR