BEGIN:VCALENDAR
VERSION:2.0
CALSCALE:GREGORIAN
PRODID:-//MyApp//Calendar 1.0//EN
BEGIN:VEVENT
METHOD:PUBLISH
UID:61203@regionalniportaly.cz
DTSTAMP:20260421T145847Z
DTSTART;VALUE=DATE:20260522
DTEND;VALUE=DATE:20260523
SUMMARY:NA STOJÁKA live
DESCRIPTION:&nbsp\;Stand-up večer v Dubňanech: Smích\, který rozhoupe i Kulturní důmKarel Hynek – neplést s básníkem\, ale texty by mu klidně mohl psát. Ostře\, jemně\, vždy trefně.&nbsp\;Iva Pazderková – žena\, která vám dokáže rozložit vážnost na prvočinitele během pár vteřin.&nbsp\;Zbyněk Vičar – pokud myslíte\, že jste už slyšeli všechno\, počkejte si na něj.Přijďte si užít večer plný inteligentního humoru\, nečekaných point a situací\, které by vám ani scenáristi netroufli slíbit. Bar bude otevřen\, židle připraveny\, mikrofony nabité. Chybíte jen vy.Představení není vhodné pro osoby mladší 15-ti let.&nbsp\;
LOCATION:Dubňany
END:VEVENT
END:VCALENDAR