BEGIN:VCALENDAR
VERSION:2.0
CALSCALE:GREGORIAN
PRODID:-//MyApp//Calendar 1.0//EN
BEGIN:VEVENT
METHOD:PUBLISH
UID:61240@regionalniportaly.cz
DTSTAMP:20260419T143935Z
DTSTART;VALUE=DATE:20260425
DTEND;VALUE=DATE:20260426
SUMMARY:Otevřené sklepy vinařů Strážnicka
DESCRIPTION:Vážení milovníci vína a vinné turistiky\,tak jako v předchozích letech jsme pro vás připravili velmi oblíbenou akci "Otevřené Sklepy Vinařů Strážnicka". Akce ve spolupráci s Vinařským fondem české republiky&nbsp\; se uskuteční v termínu 25.4.2026&nbsp\;od 11:00 do 19:00 hodin ve vinařských areálech obci&nbsp\;Petrov a Sudoměřice. Svá vína a bohaté občerstvení pro vás připraví 12&nbsp\;vinařů a máte&nbsp\; možnost&nbsp\;ochutnat spoustu originálních&nbsp\;vín.&nbsp\;&nbsp\;Nákupem vstupenky dostanete náramek na ruku a zajistili jste si následující služby:- skleničku s nosičem- katalog s přehledem vinařství i nabízených vín- propiska- volný košt vzorků vín- tři kupony v celkové hodnotě 300 Kč na nákup nabízených vín- autobusová doprava mezi jednotlivými areály- kulturní program&nbsp\;V každém areálu je zajištěna cimbálová muzika a&nbsp\;bohaté občerstvení. Doprava na místo konání je pro účastníky zajištěna zdarma svozovými i rozvozovými autobusy ze Strážnice i Skalice. Mezi jednotlivými areály bude v průběhu akce zajištěna kyvadlová doprava.To vše dne 25.4.2026&nbsp\;v době od 11:00-19:00 hodin.Každý sklep je označen pořadovým číslem s logem Vinařů Strážnicka. Stejné označení vinaře naleznete v mapce tištěného katalogu\, který obdržíte na pokladně u každého areáluNákup a vyzvednutí vín je možný v době akce\, nebo také v neděli 26.4.2026&nbsp\;v čase od 9:00-12:00 hod.\, případně dle individuální domluvy s vinařem.&nbsp\;Těší se na vás\, Vinaři Strážnicka&nbsp\;
LOCATION:Petrov
END:VEVENT
END:VCALENDAR