BEGIN:VCALENDAR
VERSION:2.0
CALSCALE:GREGORIAN
PRODID:-//MyApp//Calendar 1.0//EN
BEGIN:VEVENT
METHOD:PUBLISH
UID:61472@regionalniportaly.cz
DTSTAMP:20260422T044442Z
DTSTART;VALUE=DATE:20260131
DTEND;VALUE=DATE:20260201
SUMMARY:Fattt Boys/Fakultura/The Last Revolution & Green Day Revival
DESCRIPTION:Heavy thrash metal večer se zajímavými kytarovými rify nejenom z pera MEGADETH. Uslyšíte&nbsp\;kompozici pro tři kytary a originální&nbsp\;zpěv od kapely FATTT BOYS.The LAST Revolution boduje ve stylu punk rocku.&nbsp\;
LOCATION:Uherské Hradiště
END:VEVENT
END:VCALENDAR