BEGIN:VCALENDAR
VERSION:2.0
CALSCALE:GREGORIAN
PRODID:-//MyApp//Calendar 1.0//EN
BEGIN:VEVENT
METHOD:PUBLISH
UID:61720@regionalniportaly.cz
DTSTAMP:20260422T085334Z
DTSTART;VALUE=DATE:20260124
DTEND;VALUE=DATE:20260125
SUMMARY:Night Of The Living Dead vol. 3
DESCRIPTION:Akce\, která se několik let úspěšně odehrávala v Brně\, se znovu hlásí o slovo –tentokrát mimo Brno\, ale v legendárním klubu Mír v Uherském Hradišti24. 1. 2026Klub MírLine-up zůstává pořádně nadupaný:HELLFUCK (PL)Thrash/death nářez s old-school drivem a nekompromisní energií.BOLEST BUDE VĚTŠÍ&nbsp\;&nbsp\;(CZ)Metal - grindcore z Uherského Hradiště .&nbsp\;BRUTALLY DECEASED (CZ)Legendární český death metal – temnota\, brutalita a klasický zvuk žánru.SEE YOU IN HELL (CZ)HC/crust stálice s extrémní intenzitou a špinavou energií.Pokud jsi byl u předchozích ročníků v Brně\, víš\, že tohle je povinnost.Pokud ne – Uherské Hradiště je ideální místo to napravit.Více info &amp\; událost zde:https://www.facebook.com/events/4152244825059800/Vidíme se v Míru – loud\, raw &amp\; extreme!&nbsp\;
LOCATION:Uherské Hradiště
END:VEVENT
END:VCALENDAR