BEGIN:VCALENDAR
VERSION:2.0
CALSCALE:GREGORIAN
PRODID:-//MyApp//Calendar 1.0//EN
BEGIN:VEVENT
METHOD:PUBLISH
UID:61726@regionalniportaly.cz
DTSTAMP:20260424T170732Z
DTSTART;VALUE=DATE:20260117
DTEND;VALUE=DATE:20260118
SUMMARY:Lorenzo Sanchez Band /FR\, rock-blues/
DESCRIPTION:Lorenzo Sanchez je výraznou osobností francouzské bluesové scény\, známý svým originálním stylem\, který spojuje blues\, soul\, jazz a rock s prvky andaluské\, hispánské a indické hudby. Jeho hudba je charakteristická virtuózní hrou na slide kytaru a zpěvem ve španělštině\, angličtině i spanglish. POPRVÉ V ČESKU!Lorenzo Sanchez Band nabízí nezapomenutelný hudební zážitek\, který osloví milovníky blues i širšího spektra hudebních žánrů. Jejich koncerty jsou plné energie\, emocí a virtuózní hudby\, která zanechá silný dojem na každém publiku.Kariéra a spolupráceZakladatel skupiny Miguel M &amp\; The BBB\, která v roce 1999 zvítězila v národní soutěži Chesterfield Café (porota: Thierry Ardisson\, Yvan Le Bolloch\, Peter Kingsberry)\, což vedlo k nahrání alba Live au Chesterfield Café .Spolupracoval s významnými hudebníky jako Fred Chapellier\, Johan Dalgaard (Cali\, Gaétan Roussel\, Johnny Halliday)\, Philippe Brohet (Juliette)\, Greg Szlap\, Mike Greene\, Manu Codjia\, Dave Crow a Andrew Balcon (Heymoonshaker) .Dvakrát nominován mezi „10 nejlepších bluesových kytaristů roku“ (2000/2001 – Euroblues).Lorenzo Sanchez – kytara\, zpěvPhilippe Dandrimont – baskytaraGuillaume Destarac – bicíVstup: 350\,- na místě/ 300\,- předprodej
LOCATION:Uherský Brod
END:VEVENT
END:VCALENDAR