BEGIN:VCALENDAR
VERSION:2.0
CALSCALE:GREGORIAN
PRODID:-//MyApp//Calendar 1.0//EN
BEGIN:VEVENT
METHOD:PUBLISH
UID:61767@regionalniportaly.cz
DTSTAMP:20260422T072835Z
DTSTART;VALUE=DATE:20260118
DTEND;VALUE=DATE:20260119
SUMMARY:Spongebob: Pirátské dobrodružství
DESCRIPTION:Přístupný / 2025 / USA / animovaný / dabing / Režie: Derek Drymon / délka: 96min.  SpongeBob už nechce být jen malá hranatá houba v kalhotách. Chce dokázat světu\, že je velký kluk. A tak přijme pozvání legendárního bukanýra Bludného Holanďana na pořádné pirátské\, a hlavně filmové dobrodružství.\n změna programu vyhrazena 
LOCATION:Strážnice
END:VEVENT
END:VCALENDAR