BEGIN:VCALENDAR
VERSION:2.0
CALSCALE:GREGORIAN
PRODID:-//MyApp//Calendar 1.0//EN
BEGIN:VEVENT
METHOD:PUBLISH
UID:61772@regionalniportaly.cz
DTSTAMP:20260422T042115Z
DTSTART;VALUE=DATE:20260127
DTEND;VALUE=DATE:20260128
SUMMARY:Avatar: Oheň a popel
DESCRIPTION:Přístupnost 12+ / PREMIÉRA / USA / dobrodružný\, akční / dabing / Režie: James Cameron\nS filmem „Avatar: Oheň a popel“ James Cameron vrací diváky zpět na Pandoru v novém strhujícím dobrodružství s mariňákem Jakeem Sullym (Sam Worthington)\, který se stal vůdcem Na’vi\, válečnicí Na’vi Neytiri (Zoe Saldaña) a Sullyho rodinou. Ve filmu\, jehož scénář napsali James Cameron\, Rick Jaffa a Amanda Silver a příběh James Cameron\, Rick Jaffa\, Amanda Silver\, Josh Friedman a Shane Salerno\, hrají Sigourney Weaver\, Stephen Lang\, Oona Chaplin\, Cliff Curtis\, Britain Dalton\, Trinity Bliss\, Jack Champion\, Bailey Bass a Kate Winslet.
LOCATION:Strážnice
END:VEVENT
END:VCALENDAR