BEGIN:VCALENDAR
VERSION:2.0
CALSCALE:GREGORIAN
PRODID:-//MyApp//Calendar 1.0//EN
BEGIN:VEVENT
METHOD:PUBLISH
UID:61849@regionalniportaly.cz
DTSTAMP:20260421T234529Z
DTSTART;VALUE=DATE:20260321
DTEND;VALUE=DATE:20260322
SUMMARY:Diktatura Debilov Tour 2026
DESCRIPTION:DIKTATURA DEBILOV TOUR 2026Na turné vyráží&nbsp\;ČAD&nbsp\;a&nbsp\;HEJTMANDvě nekompromisní kapely\, osm klubů po celé republice a jedna jasná mise –pořádná porce metalu &amp\; rock’n’rolluČekej energii\, hluk\, pot a poctivý nářez od první do poslední skladby.Supporty budou&nbsp\;postupně doplněny\, ale už teď je jasné\, že tohle turné si nesmíš nechat ujít!8 měst2 kapely100 % živá energie&nbsp\;Support pro Uherské Hradiště : Made By Zero&nbsp\;
LOCATION:Uherské Hradiště
END:VEVENT
END:VCALENDAR