BEGIN:VCALENDAR
VERSION:2.0
CALSCALE:GREGORIAN
PRODID:-//MyApp//Calendar 1.0//EN
BEGIN:VEVENT
METHOD:PUBLISH
UID:62153@regionalniportaly.cz
DTSTAMP:20260422T044235Z
DTSTART;VALUE=DATE:20260212
DTEND;VALUE=DATE:20260213
SUMMARY:Přímá řeč s Petrem Vavrouškou: host Lucie Výborná
DESCRIPTION:Nepřeslechnutelná a&nbsp\;nepřehlédnutelná. To je televizní a&nbsp\;rozhlasová moderátorka Lucie Výborná. Do&nbsp\;Bílovic jezdí každý rok\, její rozhovory jsou součástí WiFič VEN!_na poli od&nbsp\;prvního ročníku. Tentokrát ale bude její role jiná – symbolicky se&nbsp\;stane prvním hostem série rozhovorů Petra Vavroušky. A&nbsp\;to ve&nbsp\;čtvrtek 12. února.Kde:&nbsp\;Pole designu\, areál Egoé\, Bílovice 519Kdy:&nbsp\;čtvrtek 12. února 2026 v&nbsp\;17.00Cena:&nbsp\;100 Kč\, na&nbsp\;místě 150 Kč.Série Přímá řeč s&nbsp\;Petrem Vavrouškou bude součástí programu Pole designu po&nbsp\;celý letošní rok. Nabídne nejen setkání se&nbsp\;zajímavými osobnostmi\, ale také otevření vážnějších témat\, která mají vliv na&nbsp\;naši každodennost i&nbsp\;budoucnost.A&nbsp\;o&nbsp\;čem bude řeč s&nbsp\;Lucií Výbornou? Mluvit bude o&nbsp\;zákulisí své&nbsp\;profese i&nbsp\;o&nbsp\;výběru hostů. Podělí se&nbsp\;o&nbsp\;své&nbsp\;cesty\, včetně jízdy se&nbsp\;psím spřežením za&nbsp\;polárním kruhem. A&nbsp\;řekne\, proč chce letos přejít celé Grónsko. Součástí besedy bude autogramiáda její nejnovější knihy&nbsp\;Nedokončená dobrodružství. Kniha je intimní výpravou za&nbsp\;hranice vlastní komfortní zóny a&nbsp\;cestou k&nbsp\;sobě.
LOCATION:Bílovice
END:VEVENT
END:VCALENDAR