BEGIN:VCALENDAR
VERSION:2.0
CALSCALE:GREGORIAN
PRODID:-//MyApp//Calendar 1.0//EN
BEGIN:VEVENT
METHOD:PUBLISH
UID:62187@regionalniportaly.cz
DTSTAMP:20260421T190701Z
DTSTART;VALUE=DATE:20260530
DTEND;VALUE=DATE:20260531
SUMMARY:Alžběta + Aldabra + Reflexy originál
DESCRIPTION:ALŽBĚTA a ALDABRA spolu na turné na podporu nových CD.V Boršicích je podpoří místní legenda HALOGEN.Ze zdravotních důvodů nemůže vystoupit kapela REFLEXY ORIGINÁL a tak ji nahradí jejich souputníci po místních pódiích - kapela HALOGEN.
LOCATION:Boršice
END:VEVENT
END:VCALENDAR