BEGIN:VCALENDAR
VERSION:2.0
CALSCALE:GREGORIAN
PRODID:-//MyApp//Calendar 1.0//EN
BEGIN:VEVENT
METHOD:PUBLISH
UID:62234@regionalniportaly.cz
DTSTAMP:20260422T104552Z
DTSTART;VALUE=DATE:20260201
DTEND;VALUE=DATE:20260202
SUMMARY:Karneval pro děti ve Strážnici
DESCRIPTION:ANIMAČNÍ PROGRAM ONDŘEJE SOUKUPAMáte už nachystané masky? Velký dětský karneval v KD Strážničan se blíží!Zveme všechny malé piráty\, princezny\, zvířátka i superhrdiny na odpoledne plné zábavy. Čeká nás nadupaný program\, na který děti jen tak nezapomenou.\n \nVstupné: 130\,- děti do 1 roku zdarma
LOCATION:Strážnice
END:VEVENT
END:VCALENDAR