BEGIN:VCALENDAR
VERSION:2.0
CALSCALE:GREGORIAN
PRODID:-//MyApp//Calendar 1.0//EN
BEGIN:VEVENT
METHOD:PUBLISH
UID:62236@regionalniportaly.cz
DTSTAMP:20260421T191753Z
DTSTART;VALUE=DATE:20260514
DTEND;VALUE=DATE:20260515
SUMMARY:Božská Sarah
DESCRIPTION:Silná a působivá tragikomedie o vyhlášené skandalistce Sarah Bernhardtové v hlavní roli s Ivou Janžurovou a Igorem Orozovičem.
LOCATION:Strážnice
END:VEVENT
END:VCALENDAR