BEGIN:VCALENDAR
VERSION:2.0
CALSCALE:GREGORIAN
PRODID:-//MyApp//Calendar 1.0//EN
BEGIN:VEVENT
METHOD:PUBLISH
UID:62280@regionalniportaly.cz
DTSTAMP:20260422T054747Z
DTSTART;VALUE=DATE:20260207
DTEND;VALUE=DATE:20260208
SUMMARY:V.I.P. Box CLASSIC
DESCRIPTION:Možnost rezervace&nbsp\;VIP boxu&nbsp\;je tady!Box přímo u DJe\, obsluha do boxu a mnoho dalšího!V ceně&nbsp\;VIP boxu:- bottle service (dle nabídky)- 5x vstup&nbsp\;- rezervovaný box vedle DJe- obsluha do boxu
LOCATION:Uherské Hradiště
END:VEVENT
END:VCALENDAR