BEGIN:VCALENDAR
VERSION:2.0
CALSCALE:GREGORIAN
PRODID:-//MyApp//Calendar 1.0//EN
BEGIN:VEVENT
METHOD:PUBLISH
UID:62293@regionalniportaly.cz
DTSTAMP:20260421T202026Z
DTSTART;VALUE=DATE:20260425
DTEND;VALUE=DATE:20260426
SUMMARY:Paul Childers & The Makers /NL/
DESCRIPTION:Paul Childers &amp\; The Makers - holandská kapela s energickým a oduševnělým zvukem. Členové kapely Arthur\, Rudy a Chris sdílejí vášeň pro hudbu\, která začala v raném věku. Nabité trio se rozhodlo vydat se na další plné turné po EU s Paulem Childersem\, nyní pod přezdívkou Paul Childers &amp\; The Makers. Odehráli představení po celém Nizozemsku\, Belgii\, Německu a Rakousku a zaujali publikum v klubech i na festivalech. Jejich americké turné začalo v Kentucky a pokračovalo na jih do Beaumontu v Texasu. Zdobily ikonické jazzové kluby\, jako je Rudy’s v Nashvillu a Jaegers v New Orleans\, spolu s elektrizujícími venkovními vystoupeními v Bogaluse a Beaumontu…
LOCATION:Uherský Brod
END:VEVENT
END:VCALENDAR