BEGIN:VCALENDAR
VERSION:2.0
CALSCALE:GREGORIAN
PRODID:-//MyApp//Calendar 1.0//EN
BEGIN:VEVENT
METHOD:PUBLISH
UID:62385@regionalniportaly.cz
DTSTAMP:20260421T232323Z
DTSTART;VALUE=DATE:20260522
DTEND;VALUE=DATE:20260523
SUMMARY:Muzikálový koktejl
DESCRIPTION:Název představení: Muzikálový koktejlAnotace: Muzikálový koktejl -namícháme vám to nejlepší z českých a zahraničních muzikálů\,&nbsp\; hudebních filmů a seriálů.Během večera zazní: hity z muzikálů\,&nbsp\; hudebních filmů a seriálů od interpretů: H.Vondráčková\, K.Gott\, M.David\, H.Zagorová\, Abba a&nbsp\; spoustu dalších.V&nbsp\;PODÁNÍ ZPĚVÁKŮ Z&nbsp\;ČESKÉ MUZIKÁLOVÉ SCÉNY!Jedinečná show\, která vás dlouho nenechá sedět!délka představení CCA 90 minut + přestávka 15 minut
LOCATION:Strážnice
END:VEVENT
END:VCALENDAR