BEGIN:VCALENDAR
VERSION:2.0
CALSCALE:GREGORIAN
PRODID:-//MyApp//Calendar 1.0//EN
BEGIN:VEVENT
METHOD:PUBLISH
UID:62421@regionalniportaly.cz
DTSTAMP:20260422T042045Z
DTSTART;VALUE=DATE:20260226
DTEND;VALUE=DATE:20260227
SUMMARY:Úsměvy Zdeňka TROŠKY s písničkami Simony KLÍMOVÉ
DESCRIPTION:Zdeňka TROŠKY s písničkami Simony KLÍMOVÉV&nbsp\;tomto představení oba aktéři spolu odkryjí zákoutí režisérova života\,&nbsp\; kde jídlo\, smích\, vtip\, humor a nadsázka je mottem celého večera.„Nejsem žádný&nbsp\;"troškař“\, prohlašuje o sobě Zdeněk TROŠKA\, kdykoliv si stoupne k&nbsp\;plotně anebo začne o jídle vyprávět\, snít či básnit.Kdo zná&nbsp\; t r o š k u Zdeňka TROŠKU\, tak ví\, že se ani t r o š k u nebude nudit\, tak proč&nbsp\; si život nezpříjemnit t r o š k&nbsp\;o u smíchu a t r o š k&nbsp\;o u hudby.Zpívat nebude jen Simona \, ale i pan režisér! A? Zpívat budete i vy…Diváci uslyší příběhy o tom\, jak se vlastně stal Zdeněk&nbsp\; „poprvé známým“\, o období hladu během studií ve Francii a samozřejmě zde zazní i povídání o stěžejních herečkách jako byla Helena Růžičková\, Cecilka a Keliška!Délka pořadu je 100 minut\, kdy po skončení si diváci mohou zakoupit dva díly kuchařky pana Trošky s&nbsp\;názvem"NEBE V HUBĚ\, Chrocht\, chrocht" popř. "NEBE V HUBĚ 2 - aneb Čertův švagr" nebo CD Simony KLÍMOVÉ.Po skončení pořadu následuje autogramiáda obou účinkujících s možností se společně vyfotit.Pořad rozhodně N E N Í vhodný pro děti !!! :-)
LOCATION:Ždánice
END:VEVENT
END:VCALENDAR