BEGIN:VCALENDAR
VERSION:2.0
CALSCALE:GREGORIAN
PRODID:-//MyApp//Calendar 1.0//EN
BEGIN:VEVENT
METHOD:PUBLISH
UID:62585@regionalniportaly.cz
DTSTAMP:20260422T104601Z
DTSTART;VALUE=DATE:20260203
DTEND;VALUE=DATE:20260204
SUMMARY:Greenland 2: Útěk
DESCRIPTION:Přeživší členové rodiny Garrityových musí opustit bezpečí svého bunkru a vydat se na nebezpečnou cestu přes zpustošenou zamrzlou Evropu\, aby našli nový domov.\n \nVstupné: 130 KčVstupenky v předprodeji online nebo půl hodiny před filmem.\n \nPřístupnost 12+ / 2026 / USA / akční / titulky / Režie: Ric Roman Waugh / délka: 100min. Snímek přináší příběh přeživších členů rodiny Garrityových\, kteří musí opustit bezpečí svého bunkru a vydat se na nebezpečnou cestu napříč zpustošenou\, zamrzlou Evropou\, aby našli nový domov.\nV hlavních rolích se představí Gerard Butler\, Morena Baccarin\, Roman Griffin Davis\, Amber Rose Revah\, Sophie Thompson nebo Tommie Earl Jenkins. změna programu vyhrazena
LOCATION:Strážnice
END:VEVENT
END:VCALENDAR