BEGIN:VCALENDAR
VERSION:2.0
CALSCALE:GREGORIAN
PRODID:-//MyApp//Calendar 1.0//EN
BEGIN:VEVENT
METHOD:PUBLISH
UID:62586@regionalniportaly.cz
DTSTAMP:20260422T054349Z
DTSTART;VALUE=DATE:20260211
DTEND;VALUE=DATE:20260212
SUMMARY:Na horách - komedie
DESCRIPTION:Romantická komedie o nečekaném setkání a sebepoznání v nádherné horské krajině.\n \nVstupné: 100 KčVstupenky v předprodeji online nebo půl hodiny před filmem.\n \nPřístupný / 2025 / Česko / romantická komedie / Režie: Rudolf Havlík  / délka: 117min.  Romantická komedie o nečekaném setkání a sebepoznání v nádherné horské krajině. Lucie\, mladá žena z města\, zdědí horskou chatu po svém odcizeném biologickém otci\, bývalém náčelníkovi horské služby\, kterého nikdy nepoznala. Proto přijíždí do hor\, ale místo prázdné chalupy v ní nachází záchranáře Matěje\, jeho psa Bedřich a další\, kteří objekt spravují jako ubytovnu pro školy v přírodě. Lucie se musí vypořádat nejen s neznámým světem hor\, ale také se sarkastickým Matějem a výzvami\, které ji postupně nutí posunovat vlastní hranice. Komické situace\, horské záchranné akce a ztřeštěná nedorozumění vedou k nečekanému sbližování. Přestože Lucie zpočátku bojuje s nepřízní hor i Matějovým cynickým humorem\, jejich vztah se postupně mění v přátelství a možná i něco víc…\nRežisér Rudolf Havlík je autorem úspěšných diváckých titulů Po čem muži touží\, Po čem muži touží 2\, Prezidentka\, Ostrov nebo Poklad. Film Na horách natáčel nejen v překrásné horské přírodě Krkonoš\, ale také v Nepálu. Uvedl k tomu: „Myslel jsem\, že to nezvládnu. Přesto jsme se s partou kavárenských povalečů vydali do největších hor světa a dokázali to. Hory byly vždycky dobré k pochopení\, že na ničem moc nezáleží. Vyčistí duši\, uklidní hlavu a připomenou\, co je v životě důležité. To jsme chtěli ukázat i ve filmu.“\n \nZměna programu vyhrazena \n 
LOCATION:Strážnice
END:VEVENT
END:VCALENDAR