BEGIN:VCALENDAR
VERSION:2.0
CALSCALE:GREGORIAN
PRODID:-//MyApp//Calendar 1.0//EN
BEGIN:VEVENT
METHOD:PUBLISH
UID:62587@regionalniportaly.cz
DTSTAMP:20260422T085201Z
DTSTART;VALUE=DATE:20260215
DTEND;VALUE=DATE:20260216
SUMMARY:Zootropolis: Město zvířat 2
DESCRIPTION:Judy a Nick se ocitnou na stopě velké záhady\, když do Zootropolisu dorazí Gary De'Snake a obrátí zvířecí metropoli vzhůru nohama. Aby případ rozlouskli\, musí se v utajení vydat do nečekaných nových částí města\, kde bude jejich sílící partnerství prověřeno jako nikdy předtím.\n \nVstupné: 150 Kč děti: 130 KčVstupenky v předprodeji online nebo půl hodiny před filmem.\n \nPřístupný / 2025 / USA / animovaný / dabing / Režie: Jared Bush\, Byron Howard  / délka: 117min. Poté\, co vyřešili největší případ v historii Zootropole\, nováčci Judy Hoppkinsová a Nick Wilde zjišťují\, že jejich partnerství není tak pevné\, jak si myslel. Proto jim jejich policejní šéf nařídí\, aby se zapojili do poradenského programu “Krize koegiality” . Netrvá však dlouho a jejich partnerství je podrobeno ultimátní zkoušce\, když se ocitnou na spletité stopě záhady spojené s příchodem jedovatého hada do zvířecí metropole. změna programu vyhrazena
LOCATION:Strážnice
END:VEVENT
END:VCALENDAR