BEGIN:VCALENDAR
VERSION:2.0
CALSCALE:GREGORIAN
PRODID:-//MyApp//Calendar 1.0//EN
BEGIN:VEVENT
METHOD:PUBLISH
UID:62588@regionalniportaly.cz
DTSTAMP:20260422T054605Z
DTSTART;VALUE=DATE:20260215
DTEND;VALUE=DATE:20260216
SUMMARY:Králové rapu
DESCRIPTION:Sedmnáctiletý mladík přezdívaný Kazan má velký sen o tom\, že se stane slavným rapperem a získá srdce dívky\, kterou miluje. Kvůli svým snům je Kazan odhodlaný riskovat a na cestě ho čeká boj o úspěch\, lásku\, a dokonce i o přežití.\n \nVstupné: 130 KčVstupenky v předprodeji online nebo půl hodiny před filmem.\nPřístupnost 12+ / 2021 / Ukrajina / hudební\, drama / titulky / Režie: Myroslav Latyk / délka: 100min.Film Králové rapu propojuje kriminální napětí\, příběh o dospívání a energii rapu do vizuálně strhující podívané. Režisér s citem mísí drsnost ulice s romantikou a rytmem. Výrazné herecké výkony\, silné emoce a hudba – to vše dělá z „Králů rapu“ jeden z nejvýraznějších ukrajinských filmů posledních let. V hlavních rolích se objevují Mychajlo Dziuba jako Kazan\, populární zpěvák Anton Velboj (Wellboy) a hvězda ukrajinského divadla a filmu Irma Vitovska. Snímek\, který měl premiéru na Mezinárodním filmovém festivalu v Oděse (2021)\, si získal uznání kritiků i diváků – jako „nový kultovní ukrajinský blockbuster“.\nzměna programu vyhrazena
LOCATION:Strážnice
END:VEVENT
END:VCALENDAR