BEGIN:VCALENDAR
VERSION:2.0
CALSCALE:GREGORIAN
PRODID:-//MyApp//Calendar 1.0//EN
BEGIN:VEVENT
METHOD:PUBLISH
UID:62589@regionalniportaly.cz
DTSTAMP:20260422T054625Z
DTSTART;VALUE=DATE:20260218
DTEND;VALUE=DATE:20260219
SUMMARY:Cukrkandl - film
DESCRIPTION:Tajemný film s pohádkovými a dobrodružnými prvky pro celou rodinu o začátcích stomatologie přichází s výjimečným vizuálním zpracováním\, napínavým příběhem a skvělým obsazením do kin v době\, kdy se na podobný žánr tak trochu pozapomnělo.\n \nVstupné: 100 KčVstupenky v předprodeji online nebo půl hodiny před filmem.\nPřístupný / PREMIÉRA / Česko\, Slovensko / rodinný / Režie: Pavel JandourekAnička Jesenská zdědí po svém tajemném strýci dům se skleníkem a zubařskou ordinací ve městě Medov. Jako vystudovaná lékařka chce pomáhat hlavně dětem\, ale nikdo k ní nechodí.Vila má totiž ve městě pověst „strašidelného“ domu\, ke kterému se místní obyvatelé bojí přiblížit. Když díky dědovi Plantovi a exotické peruánské bylině ze skleníku zjistí\, že zubařské zákroky nemusejí bolet\, má rázem v ordinaci plno. Jenže ve městě je i druhý zubař – doktor Druml\, kterému se to samozřejmě nelíbí. Začíná nerovný boj\, ve kterém Aničce brzy začne pomáhat i parta místních dětí…Tajemný film s pohádkovými a dobrodružnými prvky pro celou rodinu o začátcích stomatologie přichází s výjimečným vizuálním zpracováním\, napínavým příběhem a skvělým obsazením do kin v době\, kdy se na podobný žánr tak trochu pozapomnělo.\n \nZměna programu vyhrazena
LOCATION:Strážnice
END:VEVENT
END:VCALENDAR