BEGIN:VCALENDAR
VERSION:2.0
CALSCALE:GREGORIAN
PRODID:-//MyApp//Calendar 1.0//EN
BEGIN:VEVENT
METHOD:PUBLISH
UID:62590@regionalniportaly.cz
DTSTAMP:20260422T072731Z
DTSTART;VALUE=DATE:20260219
DTEND;VALUE=DATE:20260220
SUMMARY:Severní pohádka
DESCRIPTION:Malá Gerda se vydává na dobrodružnou cestu do neznáma\, aby našla svého nejlepšího přítele Kaie\, který beze stopy zmizel. Během své pouti potkává nejen přátelské lidi a zvířátka\, ale i prohnanou čarodějnici. A ani netuší\, že ji tajně sleduje mocná a chladná nepřítelkyně: Sněhová královna a její děsivý učedník Louie.\n \nVstupné: 100 KčVstupenky v předprodeji online nebo půl hodiny před filmem.Přístupný / 2025 / Norsko / animovaný\, pohádka / dabing / Režie: Bente Lohne / délka: 89min.Malá Gerda se vydává na dobrodružnou cestu do neznáma\, aby našla svého nejlepšího přítele Kaie\, který beze stopy zmizel. Během své pouti potkává nejen přátelské lidi a zvířátka\, ale i prohnanou čarodějnici. A ani netuší\, že ji tajně sleduje mocná a chladná nepřítelkyně: Sněhová královna a její děsivý učedník Louie. Kai je uvězněn v ledovém paláci hluboko na severu\, v norském Finnmarku. Podaří se Gerdě čelit nástrahám kruté zimy\, zlým kouzlům a zachránit Kaie? A bude jejich návrat domů skutečně tím nejkouzelnějším vánočním zázrakem?\n \nzměna programu vyhrazena
LOCATION:Strážnice
END:VEVENT
END:VCALENDAR