BEGIN:VCALENDAR
VERSION:2.0
CALSCALE:GREGORIAN
PRODID:-//MyApp//Calendar 1.0//EN
BEGIN:VEVENT
METHOD:PUBLISH
UID:62591@regionalniportaly.cz
DTSTAMP:20260422T054727Z
DTSTART;VALUE=DATE:20260219
DTEND;VALUE=DATE:20260220
SUMMARY:Když se zhasne
DESCRIPTION:Nina je ambiciózní šéfkuchařka\, která se chystá otevřít vlastní restauraci. Richard je vyhledávaný gynekolog. Kdysi tvořili šťastný pár\, po letech manželství se ale ocitnou v komplikované vztahové situaci – ani jeden zkrátka nemůže toho druhého vystát.\n \nVstupné: 150 KčVstupenky v předprodeji online nebo půl hodiny před filmem.Přístupný / PREMIÉRA / Česko\, Slovensko / komedie / Režie: Andy Fehu / délka: 90min.Nina je ambiciózní šéfkuchařka\, která se chystá otevřít vlastní restauraci\, Richard je vyhledávaný gynekolog. Kdysi tvořili šťastný pár\, po letech manželství se ale ocitnou v komplikované vztahové situaci – ani jeden zkrátka nemůže toho druhého vystát. Od rozvodu je dělí jediná věc\, smlouva\, kterou kdysi v opilosti sepsali na papírový ubrousek a ve které se zavázali\, že ten\, kdo zaviní konec vztahu\, nedostane ze společného majetku ani korunu. Richard v zoufalosti požádá kamaráda Čendu\, který je ženatý s jejich společnou kamarádkou Alenou\, aby Ninu svedl na otvíračce jejího nového podniku. Ta se to ale dozví a plánuje pomstu. Nevěru za nevěru! A tak je slavnostní večer plný zmatků\, komických situací i gastronomických překvapení.\n \nzměna programu vyhrazena
LOCATION:Strážnice
END:VEVENT
END:VCALENDAR