BEGIN:VCALENDAR
VERSION:2.0
CALSCALE:GREGORIAN
PRODID:-//MyApp//Calendar 1.0//EN
BEGIN:VEVENT
METHOD:PUBLISH
UID:62592@regionalniportaly.cz
DTSTAMP:20260422T025042Z
DTSTART;VALUE=DATE:20260222
DTEND;VALUE=DATE:20260223
SUMMARY:Velrybí píseň
DESCRIPTION:Velrybí píseň vypráví příběh mladého keporkaka Vincenta. Ten musí s pomocí několika přátel překonat řadu překážek a prožít nečekaná dobrodružství\, aby v sobě objevil vlastní magickou píseň\, s jejíž pomocí může zachránit oceán a život v něm.\n \nVstupné: 150 Kč děti: 130 KčVstupenky v předprodeji online nebo půl hodiny před filmem.Přístupný / PREMIÉRA / Česko\, Německo\, Kanada / animovaný\, pro děti / Režie:Reza Memari\, Steven Majaury\, Pavel Hruboš / délka: 96min.\nVelrybí píseň vypráví příběh mladého keporkaka Vincenta. Ten s pomocí několika přátel musí překonat řadu překážek a prožít nečekaná dobrodružství\, aby v sobě objevil vlastní magickou píseň\, s jejíž pomocí může zachránit oceán a život v něm.Vincent\, dospívající keporkak\, je synem slavného posledního velrybího pěvce\, který až do poslední chvíle chránil oceán a jeho obyvatele. Když Vincent o něj i svou mámu tragicky přijde\, musí zaujmout jeho místo a svou vlastní kouzelnou písní pokračovat jako ochránce podmořského života. Je však příliš vystrašený\, osamělý a nejistý. Když z tajícího ledovce unikne obludný Leviatan a začne ohrožovat svým smrtícím inkoustem veškerý mořský život\, musí Vincent najít svou vlastní píseň\, aby tuto hrozbu zastavil. Ale je stále ochromený pochybnostmi o sobě samém a místo toho se vydává na nebezpečnou cestu do nejhlubšího místa na dně oceánu\, aby přivedl své rodiče zpět z mýtické Tůně hvězd. Jeho poslední nadějí je to\, že jeho otec nakonec dokáže Leviatana porazit místo něj.S pomocí rybího parťáka štítovce Waltera a odvážné kosatky Darii musí Vincent odolávat svým strachům\, překonat často nečekané překážky a poznat mnohá tajemství oceánu. Především však musí najít vlastní píseň\, která mu pomůže zachránit život v oceánu.\nzměna programu vyhrazena
LOCATION:Strážnice
END:VEVENT
END:VCALENDAR