BEGIN:VCALENDAR
VERSION:2.0
CALSCALE:GREGORIAN
PRODID:-//MyApp//Calendar 1.0//EN
BEGIN:VEVENT
METHOD:PUBLISH
UID:62593@regionalniportaly.cz
DTSTAMP:20260422T090104Z
DTSTART;VALUE=DATE:20260224
DTEND;VALUE=DATE:20260225
SUMMARY:Pomocnice - thriller
DESCRIPTION:Když Millie (Sydney Sweeney) získá práci v domě Winchesterových\, nemůže uvěřit\, že se na ni konečně usmálo štěstí. Teď má šanci začít s čistým štítem! Co ale vypadá jako splněný sen\, se rychle mění v něco mnohem nebezpečnějšího – sexy\, svůdnou hru plnou tajemství\, skandálů a manipulací.\nVstupné: 150 KčVstupenky v předprodeji online nebo půl hodiny před filmem.\nPřístupnost 15+ / 2026 / USA / thriller / Režie: Paul Fei / délka: 131min.Zjisti\, co se skrývá za zavřenými dveřmi.Když Millie (Sydney Sweeney) získá práci v domě Winchesterových\, nemůže uvěřit\, že se na ni konečně usmálo štěstí. Teď má šanci začít s čistým štítem! Co ale vypadá jako splněný sen\, se rychle mění v něco mnohem nebezpečnějšího – sexy\, svůdnou hru plnou tajemství\, skandálů a manipulací. Ve zdánlivě perfektní domácnosti Niny (Amanda Seyfried) a Andrewa (Brandon Sklenar) je totiž víc špinavého prádla\, než se na tuhle luxusní adresu sluší. Film Pomocnice natočený podle stejnojmenného bestselleru\, který nadchl miliony čtenářů po celém světě a stal se nejlepším knižním thrillerem\, vtáhne diváky do strhujícího příběhu plného šokujících zvratů a intrik\, ve kterém funguje dokonale jen přetvářka.\nzměna programu vyhrazena
LOCATION:Strážnice
END:VEVENT
END:VCALENDAR