BEGIN:VCALENDAR
VERSION:2.0
CALSCALE:GREGORIAN
PRODID:-//MyApp//Calendar 1.0//EN
BEGIN:VEVENT
METHOD:PUBLISH
UID:62686@regionalniportaly.cz
DTSTAMP:20260421T190651Z
DTSTART;VALUE=DATE:20260508
DTEND;VALUE=DATE:20260509
SUMMARY:Desade / Denoi
DESCRIPTION:DESADE / DENOI – liveDESADE a kapela DENOI spojili síly v projektu&nbsp\;DESADE / DENOI\, založeném na společné nové tvorbě a skladbách obou interpretů.Klub Mír\, Uherské Hradiště8. 5. 2026DESADE / DENOIDESADE patří mezi výrazná jména české rapové scény a je spoluzakladatelem projektu Sodoma Gomora. DENOI je moderní rocková kapela z Brna s koncertními zkušenostmi z ČR i zahraničních festivalů.Support: Linkin Park CZ – Moravian TheoryČeský tribute band Linkin Park složený ze zkušených hudebníků domácí scény.
LOCATION:Uherské Hradiště
END:VEVENT
END:VCALENDAR