BEGIN:VCALENDAR
VERSION:2.0
CALSCALE:GREGORIAN
PRODID:-//MyApp//Calendar 1.0//EN
BEGIN:VEVENT
METHOD:PUBLISH
UID:62688@regionalniportaly.cz
DTSTAMP:20260421T194503Z
DTSTART;VALUE=DATE:20260501
DTEND;VALUE=DATE:20260502
SUMMARY:12:piet + Ganjaband
DESCRIPTION:&nbsp\;12:PIET se opět vrací do Uherského Hradiště!V říjnu minulého roku si kapela 12:PIET střihla neskutečnou show v natřískaném Míru! Tancovalo se\, pilo a zpívalo\, a fanoušci pod pódiem si s nadšením užívali každou minutu! Po této vydařené akci se kapela začátkem května opět vrací na místo činu! Společně s kapelou Ganjaband to roztočí ve velkém stylu a to si nemůžete nechat ujít!&nbsp\;
LOCATION:Uherské Hradiště
END:VEVENT
END:VCALENDAR