BEGIN:VCALENDAR
VERSION:2.0
CALSCALE:GREGORIAN
PRODID:-//MyApp//Calendar 1.0//EN
BEGIN:VEVENT
METHOD:PUBLISH
UID:62691@regionalniportaly.cz
DTSTAMP:20260422T025200Z
DTSTART;VALUE=DATE:20260326
DTEND;VALUE=DATE:20260327
SUMMARY:Jakub Szántó v Přímé řeči s Petrem Vavrouškou
DESCRIPTION:Jakub Szántó se&nbsp\;jako zahraniční reportér České televize dlouhodobě pohybuje v&nbsp\;místech\, kde se&nbsp\;politika prosazuje silou. Aktuálně především na&nbsp\;Blízkém východě. Řeč bude o&nbsp\;tom\, zda a&nbsp\;jak je možné z&nbsp\;takových míst podávat srozumitelné a&nbsp\;věcné informace\, jaké je to žít s&nbsp\;rodinou v&nbsp\;odlišné kultuře a&nbsp\;jak se&nbsp\;proměňuje role novináře v&nbsp\;době krizí. Dotkneme se&nbsp\;i&nbsp\;domácího tématu – budoucnosti veřejnoprávních médií.
LOCATION:Bílovice
END:VEVENT
END:VCALENDAR