BEGIN:VCALENDAR
VERSION:2.0
CALSCALE:GREGORIAN
PRODID:-//MyApp//Calendar 1.0//EN
BEGIN:VEVENT
METHOD:PUBLISH
UID:62692@regionalniportaly.cz
DTSTAMP:20260421T121753Z
DTSTART;VALUE=DATE:20260423
DTEND;VALUE=DATE:20260424
SUMMARY:Alena Mornštajnová v Přímé řeči s Petrem Vavrouškou
DESCRIPTION:Alena Mornštajnová patří k&nbsp\;nejčtenějším českým autorkám posledních let. Ve&nbsp\;svých knihách se&nbsp\;vrací k&nbsp\;českému prostředí\, paměti míst a&nbsp\;rodinným příběhům\, v&nbsp\;nichž se&nbsp\;velké dějiny otiskují do&nbsp\;obyčejných životů. Rozhovor se&nbsp\;zaměří na&nbsp\;psaní jako dlouhodobý proces\, práci s&nbsp\;pamětí a&nbsp\;odpovědnost autora při&nbsp\;vyprávění příběhů jiných. A&nbsp\;určitě se&nbsp\;nevyhneme tomu\, jak literární svět promění rychlý nastup umělé inteligence.
LOCATION:Bílovice
END:VEVENT
END:VCALENDAR