BEGIN:VCALENDAR
VERSION:2.0
CALSCALE:GREGORIAN
PRODID:-//MyApp//Calendar 1.0//EN
BEGIN:VEVENT
METHOD:PUBLISH
UID:62796@regionalniportaly.cz
DTSTAMP:20260422T041938Z
DTSTART;VALUE=DATE:20260303
DTEND;VALUE=DATE:20260304
SUMMARY:Listování:  Blízcí (Veronika González)
DESCRIPTION:Lely: "Tak tohle byla jízda! Silný příběh o toxických vztazích jedné vesnické rodiny. To\, jak autorka dokázala popsat tu syrovost\, intriky\, smutek a strach\, bylo opravdu něco\, emoce jak na houpačce. Nejhorší na tom je\, že se to opravdu děje."Monulka: "Bože\, to bylo něco. Parádní počin\, šílenost\, ale i kus něhy a dobrého. Už dlouho se mi nestalo\, aby mě nějaká kniha takhle dostala."Peggy2711: "Mnohým může otevřít oči. Doporučuji!"Kirikou:&nbsp\; “O tom\, že ZAS si nebereme jenom partnera\, ale i jeho rodinu. A že právě tahle rodina může náš vztah posílit – nebo úplně rozložit. Blízcí Veroniky González zůstávají v hlavě ještě dlouho po dočtení.”-&nbsp\; účinkují: Pavla Dostálová\, Věra Hollá a Lukáš Hejlík
LOCATION:Veselí nad Moravou
END:VEVENT
END:VCALENDAR