BEGIN:VCALENDAR
VERSION:2.0
CALSCALE:GREGORIAN
PRODID:-//MyApp//Calendar 1.0//EN
BEGIN:VEVENT
METHOD:PUBLISH
UID:62827@regionalniportaly.cz
DTSTAMP:20260419T201527Z
DTSTART;VALUE=DATE:20260425
DTEND;VALUE=DATE:20260426
SUMMARY:Mutanti hledaj východisko / K Madoně se rzí
DESCRIPTION:18.00 door“předkapela” = hudební performance ve které se harmonická struktura vzájemně ušlapává se site-specific vrstvou hluku. Smyčky rezonujícího očekávání\, postávání\, vydýchaného vzduchu a zmačkání.kytary\, bicí\, hlasy\, field recording: LADZI&nbsp\;(Kroměříž\, DasLiga)&nbsp\;K MADONĚ SE RZÍ&nbsp\;Pocketart collective&nbsp\;tanečně vizuální sólo\, intimní taneční výpověď&nbsp\;Kola mého bicyklu prorážela mlhu a rozjížděla kaluže na staré asfaltce v tichých kopcích Šumavy. Jeli jsme s tátou beze slov pochmurnou krajinou a přijeli k zchátralé kapličce. Zůstala jsem stát v úžasu. Ze strženého obrazu prorostlého rzí na mě hleděla Madona\, jejíž tvář byla skrápěna deštěm.&nbsp\;Inscenace je inspirovaná osobním zážitkem jednoho nečekaného setkání\, které se po letech opět vynořuje z hlubin paměti a ožívá. Tvůrci zvou diváky na společnou cestu k Madoně se rzí.&nbsp\;&nbsp\;19.30MUTANTI HLEDAJ VÝCHODISKOalternativní elektro–rapová kapelaMutanti vznikli asi v roce 2010\, kdy ještě na škole nahráli svoje první demíčko a od tý doby to jede.Mutanti kašlou na pravidla a klišé\, pouští se do dobrodružství na okrajích žánrů a ohýbají hranice možného i nemožného. Jejich virální hity jako Du prát\, Klimeš nebo Čau čau čau sbírají statisícová zhlédnutí na sítích. Taneční rytmy\, přísnej rap\, elektronika a trochu alternativního hip-hopu a popu. Budeš se klátit v kotli ani nebudeš vědět.
LOCATION:Bílovice
END:VEVENT
END:VCALENDAR