BEGIN:VCALENDAR
VERSION:2.0
CALSCALE:GREGORIAN
PRODID:-//MyApp//Calendar 1.0//EN
BEGIN:VEVENT
METHOD:PUBLISH
UID:63329@regionalniportaly.cz
DTSTAMP:20260421T194324Z
DTSTART;VALUE=DATE:20260426
DTEND;VALUE=DATE:20260427
SUMMARY:Slavnostní koncert
DESCRIPTION:Slavnostní koncert Pěveckého sboru Dvořák Uherský Brod se koná u příležitosti 80. výročí založení tohoto sboru. Společně s průvodním slovem provede svou celou historií a nabídne bohatý repertoár sborové tvorby.Účinkují:Pěvecký sbor DvořákKomorní sbor DvořákKlavír: Jiří Kovář\, Jan BěhalHousle:&nbsp\;Hana ČervenkováBicí: František BobčíkUmělecký přednes: Vladimír DoskočilDirigent: Petr Kučera
LOCATION:Uherský Brod
END:VEVENT
END:VCALENDAR