BEGIN:VCALENDAR
VERSION:2.0
CALSCALE:GREGORIAN
PRODID:-//MyApp//Calendar 1.0//EN
BEGIN:VEVENT
METHOD:PUBLISH
UID:63523@regionalniportaly.cz
DTSTAMP:20260422T070407Z
DTSTART;VALUE=DATE:20260310
DTEND;VALUE=DATE:20260311
SUMMARY:Norimberk - kino
DESCRIPTION:Psychiatr z druhé světové války hodnotí nacistické vůdce před norimberskými procesy a postupně se stává stále více posedlý snahou porozumět zlu\, zatímco navazuje znepokojivý vztah s Hermannem Göringem (Russell Crowe).\n \nVstupné: 150 KčVstupenky v předprodeji online nebo půl hodiny před filmem.\n \nPřístupnost 12+ / 2026 / USA / trhiller / titulky / Režie: James Vanderbilt\nPo skončení druhé světové války stojí svět poprvé v dějinách před otázkou\, jak soudit zlo v takové podobě. V troskách nacistického Německa začíná historicky první mezinárodní proces – norimberský tribunál. Do města přichází mladý americký vojenský psychiatr Douglas Kelley (Rami Malek)\, aby vyšetřil duševní stav nacistických pohlavárů\, včetně samotného Hermanna Göringa (Russell Crowe). To\, co mělo být jen rutinním vyšetřováním\, se však promění v nečekaně osobní střet s mocí\, zlem a vlastní vírou v lidskost.\nKelley je postupně fascinován inteligencí i charismatem svého vězně a čím víc proniká do jeho psychiky\, tím víc začíná zpochybňovat hranici mezi monstrem a člověkem. Mezitím soudní síňožívá největším příběhem spravedlnosti 20. století – procesem vedeným hlavním žalobcem Robertem Jacksonem (Michael Shannon)\, který navždy změnil mezinárodní právo i náš pohled na vinu a odpovědnost.\nRežisér James Vanderbilt staví své napínavé historické drama nejen na autentických přepisech soudních výslechů\, ale i na vnitřním konfliktu člověka\, který se ocitl tváří v tvář nepochopitelnému zlu. Norimberg je silný\, napínavý a zároveň hluboce lidský film o tom\, že pravda může být stejně děsivá jako osvobozující.\nzměna programu vyhrazena
LOCATION:Strážnice
END:VEVENT
END:VCALENDAR