BEGIN:VCALENDAR
VERSION:2.0
CALSCALE:GREGORIAN
PRODID:-//MyApp//Calendar 1.0//EN
BEGIN:VEVENT
METHOD:PUBLISH
UID:63526@regionalniportaly.cz
DTSTAMP:20260422T012248Z
DTSTART;VALUE=DATE:20260324
DTEND;VALUE=DATE:20260325
SUMMARY:Přání k narozeninám: Křtiny
DESCRIPTION:Komedie o křtinách\, které se rozhodně nevyvíjejí podle plánu.\n \nVstupné: 150 KčVstupenky v předprodeji online nebo půl hodiny před filmem.\n \nPřístupný / 2026 / Česko / komedie / Režie: Marta FerencováNa rodinném statku Líby a Arnošta vrcholí přípravy na křtiny jejich vnučky. Líba má jasno – všechno musí proběhnout přesně tak\, jak si vysnila a naplánovala. Seznam hostů\, výzdoba i slavnostní atmosféra jsou pečlivě pod kontrolou. Jenže jak to v téhle rodině chodí\, realita bývá úplně jiná. Simona si potají prosadí jiné jméno pro svou holčičku\, Arnošt se zabere do vlastního „detektivního“ pátrání po ztracených klíčích a Karel s Richardem mezitím zvládnou způsobit pořádný rozruch ve zlatnictví. A aby toho nebylo málo\, objeví se Vlastička – prodavačka se ztrátou paměti\, jejíž přítomnost spustí další lavinu nečekaných a groteskních situací. Slavnostní den se nezadržitelně blíží\, na povrch začínají vyplouvat stará tajemství\, nevyřčené křivdy i drobné rodinné lži. Z poklidných příprav se stává série improvizací\, nedorozumění a emotivních střetů\, v nichž se ukazuje\, že udržet rodinu pohromadě je stejně náročné jako uspořádat dokonalé křtiny. Přání k narozeninám: Křtiny volně navazuje na předchozí úspěšné komedie a znovu sází na laskavý humor\, svižné tempo a situace\, které důvěrně zná každý\, kdo někdy zažil velkou rodinnou oslavu. A jak to nejen v této rodině bývá\, i když se všechno pokazí\, vždycky si nakonec poradí a najdou cestu zpět k sobě. Eva Holubová\, Jaroslav Dušek\, Táňa Pauhofová\, Jaroslav Plesl\, Anna Polívková\, David Švehlík\, Simona Babčáková\, Matěj Hádek\, Tomáš Klus a Tomáš Měcháček – to je jen část hvězdné herecké sestavy nové rodinné komedie Přání k narozeninám: Křtiny\, která volně navazuje na divácky mimořádně úspěšný film Přání k narozeninám\, který dosud vidělo více než milion diváků. Scénář opět napsali Marta Ferencová a Adam Dvořák\, režie se ujala Marta Ferencová\, která si publikum získala už filmy Přání Ježíškovi\, Přání k narozeninám či Příliš osobní známost.\nzměna programu vyhrazena\n 
LOCATION:Strážnice
END:VEVENT
END:VCALENDAR